BEGIN:VCALENDAR
VERSION:2.0
PRODID:-//Grabels En Transition - ECPv4.9.9//NONSGML v1.0//EN
CALSCALE:GREGORIAN
METHOD:PUBLISH
X-WR-CALNAME:Grabels En Transition
X-ORIGINAL-URL:https://www.grabelsentransition.fr
X-WR-CALDESC:Évènements pour Grabels En Transition
BEGIN:VTIMEZONE
TZID:Europe/Paris
BEGIN:DAYLIGHT
TZOFFSETFROM:+0100
TZOFFSETTO:+0200
TZNAME:CEST
DTSTART:20200329T010000
END:DAYLIGHT
BEGIN:STANDARD
TZOFFSETFROM:+0200
TZOFFSETTO:+0100
TZNAME:CET
DTSTART:20201025T010000
END:STANDARD
END:VTIMEZONE
BEGIN:VEVENT
DTSTART;TZID=Europe/Paris:20200206T183000
DTEND;TZID=Europe/Paris:20200206T200000
DTSTAMP:20260420T091847
CREATED:20200129T160119Z
LAST-MODIFIED:20200129T160123Z
UID:1129-1581013800-1581019200@www.grabelsentransition.fr
SUMMARY:Premier projet  de transition énergétique à Grabels par financement citoyen
DESCRIPTION:Si vous avez envie de participer à la lutte pour limiter le réchauffement climatique en vous investissant dans un projet local de votre commune\, l’association Energie en Toit et la municipalité de Grabels vous invitent à la réunion publique d’information pour investir dans la première réalisation citoyenne de production d’électricité photovoltaïque. \nEnergie en Toit vous présentera comment participer à  la réalisation de la première installation de production d’électricité photovoltaïque à Grabels en 2020 selon un mode de financement citoyen. \n
URL:https://www.grabelsentransition.fr/event/premier-projet-de-transition-energetique-a-grabels-par-financement-citoyen/
LOCATION:Salle de la GErbe\, rue de la gerbe\, grabels\, France
ATTACH;FMTTYPE=image/png:https://www.grabelsentransition.fr/wp-content/uploads/2020/01/JosephDelteil-simul-pPV.png
ORGANIZER;CN="Energie%20en%20Toit":MAILTO:energie.en.toit@gmail.com
END:VEVENT
END:VCALENDAR