BEGIN:VCALENDAR
VERSION:2.0
PRODID:-//Grabels En Transition - ECPv4.9.9//NONSGML v1.0//EN
CALSCALE:GREGORIAN
METHOD:PUBLISH
X-WR-CALNAME:Grabels En Transition
X-ORIGINAL-URL:https://www.grabelsentransition.fr
X-WR-CALDESC:Évènements pour Grabels En Transition
BEGIN:VTIMEZONE
TZID:Europe/Paris
BEGIN:DAYLIGHT
TZOFFSETFROM:+0100
TZOFFSETTO:+0200
TZNAME:CEST
DTSTART:20240331T010000
END:DAYLIGHT
BEGIN:STANDARD
TZOFFSETFROM:+0200
TZOFFSETTO:+0100
TZNAME:CET
DTSTART:20241027T010000
END:STANDARD
END:VTIMEZONE
BEGIN:VEVENT
DTSTART;TZID=Europe/Paris:20240903T183000
DTEND;TZID=Europe/Paris:20240903T213000
DTSTAMP:20260420T073823
CREATED:20240819T123145Z
LAST-MODIFIED:20240819T123301Z
UID:1518-1725388200-1725399000@www.grabelsentransition.fr
SUMMARY:DÉMOCRATIE ET ACTIONS NON VIOLENTE
DESCRIPTION:Sécheresse\, incendies\, inondations : les effets du dérèglement climatique sont visibles partout dans le monde\, et touchent particulièrement les populations les plus précaires. Les décideurs politiques\, les dirigeants des grandes entreprises et les plus riches sont majoritairement responsables de ces conséquences. Il faut les contraindre à agir concrètement et dans le respect de la démocratie pour favoriser l’émergence de territoires soutenables et solidaires.  \nPour augmenter ce rapport de force entre citoyens et responsables\, l’action non-violente a fait ses preuves et présente de multiples facettes permettant à chacune et à chacun d’y participer. Les actions non-violentes peuvent être très variées : confrontatives ou non\, directes ou symboliques\, massives ou menées à quelques uns\, avec des messages choc ou bien la force de l’humour… \nPour être bien maîtrisée et atteindre ses objectifs\, une action réussie suppose une préparation méticuleuse et une répartition des rôles bien réfléchie. Cette formation\, ouverte à tous\, abordera l’ensemble des étapes de préparation\, les rôles à prévoir\, les critères de non-violence\, la gestion des risques juridiques et des rapports à l’autorité. \nLa Formation est organisée sur invitation de l’association “Grabels en Transition” dans le cadre du Tour ALTERNATIBA 2025\n \n
URL:https://www.grabelsentransition.fr/event/democratie-et-actions-non-violente/
LOCATION:Salle de la Gerbe\, Rue de la Gerbe\, Grabels\, France
END:VEVENT
END:VCALENDAR