BEGIN:VCALENDAR
VERSION:2.0
PRODID:-//Grabels En Transition - ECPv4.9.9//NONSGML v1.0//EN
CALSCALE:GREGORIAN
METHOD:PUBLISH
X-WR-CALNAME:Grabels En Transition
X-ORIGINAL-URL:https://www.grabelsentransition.fr
X-WR-CALDESC:Évènements pour Grabels En Transition
BEGIN:VTIMEZONE
TZID:Europe/Paris
BEGIN:DAYLIGHT
TZOFFSETFROM:+0100
TZOFFSETTO:+0200
TZNAME:CEST
DTSTART:20260329T010000
END:DAYLIGHT
BEGIN:STANDARD
TZOFFSETFROM:+0200
TZOFFSETTO:+0100
TZNAME:CET
DTSTART:20261025T010000
END:STANDARD
END:VTIMEZONE
BEGIN:VEVENT
DTSTART;TZID=Europe/Paris:20260314T163000
DTEND;TZID=Europe/Paris:20260314T183000
DTSTAMP:20260420T060903
CREATED:20260304T201557Z
LAST-MODIFIED:20260304T201959Z
UID:1716-1773505800-1773513000@www.grabelsentransition.fr
SUMMARY:4 ième Atelier Nichoirs à oiseaux 14 mars 2026 16H30 au Redonnel
DESCRIPTION:Retrouvons-nous au Redonnel pour la construction de nichoirs à oiseaux\, à installer chez vous à Grabels. \nVenez gazouiller avec \, amis et famille autour de ce projet de soutien à la biodiversité du territoire. \nBientôt le printemps\, il nous faut être prêts. \n  \n  \n
URL:https://www.grabelsentransition.fr/event/atelier-nichoirs-a-oiseaux-14-mars-2026-16h30-au-redonnel/
LOCATION:Le Redonnel\, 646 Chem. du Redonnel\, grabels\, 34790\, France
END:VEVENT
END:VCALENDAR